BEGIN:VCALENDAR
VERSION:2.0
PRODID:-//Tukios.com/
BEGIN:VEVENT
UID:64150498-6b11-4315-aa10-c73a87b35c41@www.muehlebachchapel.com
DTSTAMP:20260421T154553Z
DTSTART:20260425T174500Z
DTEND:20260425T180000Z
SUMMARY:Graveside Service
DESCRIPTION:Army Military Honors
URL:https://www.muehlebachchapel.com/obituaries/richard-hankins
LOCATION: 7101 W 191st St  Stilwell KS 66085
GEO:38.7815495;-94.6720151
END:VEVENT
END:VCALENDAR