BEGIN:VCALENDAR
VERSION:2.0
PRODID:-//Tukios.com/
BEGIN:VEVENT
UID:ef098d4f-27a5-40f6-a831-8c06ff963585@www.muehlebachchapel.com
DTSTAMP:20260421T154312Z
DTSTART:20260425T160000Z
DTEND:20260425T170000Z
SUMMARY:Funeral Service
DESCRIPTION:
URL:https://www.muehlebachchapel.com/obituaries/richard-hankins
LOCATION:Country Club United Methodist Church 400 W 57th St  KCMO MO 
	64113
GEO:39.0245839;-94.5931581
END:VEVENT
END:VCALENDAR