BEGIN:VCALENDAR
VERSION:2.0
PRODID:-//Tukios.com/
BEGIN:VEVENT
UID:bd97f325-e05d-4317-8594-8766046468e4@www.muehlebachchapel.com
DTSTAMP:20260420T231326Z
DTSTART:20260422T163000Z
DTEND:20260422T173000Z
SUMMARY:Reception
DESCRIPTION:
URL:https://www.muehlebachchapel.com/obituaries/mary-beth-schmidt
LOCATION: 815 E. Meyer Blvd.  Kansas City MO 64131
GEO:39.0112005;-94.5789268
END:VEVENT
END:VCALENDAR