BEGIN:VCALENDAR
VERSION:2.0
PRODID:-//Tukios.com/
BEGIN:VEVENT
UID:df93ca9e-62ba-4ab7-ae1c-2be7dc68c5f1@www.muehlebachchapel.com
DTSTAMP:20260420T230945Z
DTSTART:20260422T150000Z
DTEND:20260422T160000Z
SUMMARY:Mass of Christian Burial
DESCRIPTION:
URL:https://www.muehlebachchapel.com/obituaries/mary-beth-schmidt
LOCATION: 815 E. Meyer Blvd.  Kansas City MO 64131
GEO:39.0112005;-94.5789268
END:VEVENT
END:VCALENDAR