BEGIN:VCALENDAR
VERSION:2.0
PRODID:-//Tukios.com/
BEGIN:VEVENT
UID:320ab55f-ac7f-4730-bc5e-22af16f2fdb5@www.muehlebachchapel.com
DTSTAMP:20260420T231326Z
DTSTART:20260421T233000Z
DTEND:20260422T013000Z
SUMMARY:Visitation
DESCRIPTION:
URL:https://www.muehlebachchapel.com/obituaries/mary-beth-schmidt
LOCATION: 7231 Mission Road  Prairie Village KS 66208
GEO:38.9973368;-94.6284903
END:VEVENT
END:VCALENDAR