BEGIN:VCALENDAR
VERSION:2.0
PRODID:-//Tukios.com/
BEGIN:VEVENT
UID:4d9829cd-cfc8-46e5-b19d-1ba9b09d64d7@www.muehlebachchapel.com
DTSTAMP:20260420T230415Z
DTSTART:20260421T230000Z
DTEND:20260421T233000Z
SUMMARY:Rosary
DESCRIPTION:
URL:https://www.muehlebachchapel.com/obituaries/mary-beth-schmidt
LOCATION: 7231 Mission Road  Prairie Village KS 66208
GEO:38.9973368;-94.6284903
END:VEVENT
END:VCALENDAR