BEGIN:VCALENDAR
VERSION:2.0
PRODID:-//Tukios.com/
BEGIN:VEVENT
UID:fdd9f72a-b907-426e-a14d-d78397db124e@www.muehlebachchapel.com
DTSTAMP:20260423T174616Z
DTSTART:20260429T223000Z
DTEND:20260430T003000Z
SUMMARY:Visitation
DESCRIPTION:
URL:https://www.muehlebachchapel.com/obituaries/barbara-hubbard-simonie
LOCATION: 6800 Troost Avenue  Kansas City MO 64131
GEO:39.0036544;-94.57542
END:VEVENT
END:VCALENDAR